BEGIN:VCALENDAR
VERSION:2.0
PRODID:-//NUCA of Florida - ECPv6.15.20//NONSGML v1.0//EN
CALSCALE:GREGORIAN
METHOD:PUBLISH
X-WR-CALNAME:NUCA of Florida
X-ORIGINAL-URL:https://nucaflorida.org
X-WR-CALDESC:Events for NUCA of Florida
REFRESH-INTERVAL;VALUE=DURATION:PT1H
X-Robots-Tag:noindex
X-PUBLISHED-TTL:PT1H
BEGIN:VTIMEZONE
TZID:America/New_York
BEGIN:DAYLIGHT
TZOFFSETFROM:-0500
TZOFFSETTO:-0400
TZNAME:EDT
DTSTART:20230312T070000
END:DAYLIGHT
BEGIN:STANDARD
TZOFFSETFROM:-0400
TZOFFSETTO:-0500
TZNAME:EST
DTSTART:20231105T060000
END:STANDARD
BEGIN:DAYLIGHT
TZOFFSETFROM:-0500
TZOFFSETTO:-0400
TZNAME:EDT
DTSTART:20240310T070000
END:DAYLIGHT
BEGIN:STANDARD
TZOFFSETFROM:-0400
TZOFFSETTO:-0500
TZNAME:EST
DTSTART:20241103T060000
END:STANDARD
BEGIN:DAYLIGHT
TZOFFSETFROM:-0500
TZOFFSETTO:-0400
TZNAME:EDT
DTSTART:20250309T070000
END:DAYLIGHT
BEGIN:STANDARD
TZOFFSETFROM:-0400
TZOFFSETTO:-0500
TZNAME:EST
DTSTART:20251102T060000
END:STANDARD
END:VTIMEZONE
BEGIN:VEVENT
DTSTART;VALUE=DATE:20241003
DTEND;VALUE=DATE:20241005
DTSTAMP:20260422T031331
CREATED:20240731T152019Z
LAST-MODIFIED:20241023T192127Z
UID:6235-1727913600-1728086399@nucaflorida.org
SUMMARY:President's Cup Golf Tournament and Board & Committee Meetings
DESCRIPTION:
URL:https://nucaflorida.org/event/presidents-cup-golf-tournament-and-board-committee-meetings/
LOCATION:Longboat Key Club\, Longboat Key\, FL\, 220 Sands Point Rd\, Longboat Key\, FL\, 34228\, United States
END:VEVENT
BEGIN:VEVENT
DTSTART;TZID=America/New_York:20241003T103000
DTEND;TZID=America/New_York:20241003T173000
DTSTAMP:20260422T031331
CREATED:20240927T044125Z
LAST-MODIFIED:20241106T152004Z
UID:6305-1727951400-1727976600@nucaflorida.org
SUMMARY:October 3 Board & Executive Committee Meetings
DESCRIPTION:BOARD OF DIRECTORS MEETING \nThursday\, October 10th \nExecutive Board Meeting 8:30 – 11:00 am \nOctober Board Agenda \nNUCA of FL Executive Meeting 2024 \n  \nEXECUTIVE COMMITTEE MEETING \nThursday\, October 10th \nBoard Meeting 12:00 pm – 2:00 pm  \nExecutive Committee Agenda \nBoard Committee Minutes July2024 \n  \nFinancial Statements \nAdvocacy- July 2024 \nAdvocacy- August \nAdvocacy- September \nAdvocacy- October 2024 \n  \nNUCA of Florida – July 2024 \nNUCA of Florida – August 2024 \nNUCA of Florida – September 2024 \nNUCA of Florida- October 2024 \n  \nASJMSF – July 2024 \nASJMSF – August 2024 \nASJMSF – September 2024 \nASJMSF- October 2024
URL:https://nucaflorida.org/event/october-3-board-executive-committee-meetings/
LOCATION:Zoom
CATEGORIES:Meeting
ORGANIZER;CN="Kate MM":MAILTO:kate@nucaflorida.org
END:VEVENT
END:VCALENDAR