BEGIN:VCALENDAR
VERSION:2.0
PRODID:-//NUCA of Florida - ECPv6.15.20//NONSGML v1.0//EN
CALSCALE:GREGORIAN
METHOD:PUBLISH
X-WR-CALNAME:NUCA of Florida
X-ORIGINAL-URL:https://nucaflorida.org
X-WR-CALDESC:Events for NUCA of Florida
REFRESH-INTERVAL;VALUE=DURATION:PT1H
X-Robots-Tag:noindex
X-PUBLISHED-TTL:PT1H
BEGIN:VTIMEZONE
TZID:America/New_York
BEGIN:DAYLIGHT
TZOFFSETFROM:-0500
TZOFFSETTO:-0400
TZNAME:EDT
DTSTART:20230312T070000
END:DAYLIGHT
BEGIN:STANDARD
TZOFFSETFROM:-0400
TZOFFSETTO:-0500
TZNAME:EST
DTSTART:20231105T060000
END:STANDARD
BEGIN:DAYLIGHT
TZOFFSETFROM:-0500
TZOFFSETTO:-0400
TZNAME:EDT
DTSTART:20240310T070000
END:DAYLIGHT
BEGIN:STANDARD
TZOFFSETFROM:-0400
TZOFFSETTO:-0500
TZNAME:EST
DTSTART:20241103T060000
END:STANDARD
BEGIN:DAYLIGHT
TZOFFSETFROM:-0500
TZOFFSETTO:-0400
TZNAME:EDT
DTSTART:20250309T070000
END:DAYLIGHT
BEGIN:STANDARD
TZOFFSETFROM:-0400
TZOFFSETTO:-0500
TZNAME:EST
DTSTART:20251102T060000
END:STANDARD
END:VTIMEZONE
BEGIN:VEVENT
DTSTART;VALUE=DATE:20240510
DTEND;VALUE=DATE:20240511
DTSTAMP:20260424T101456
CREATED:20240320T012301Z
LAST-MODIFIED:20240510T120454Z
UID:6103-1715299200-1715385599@nucaflorida.org
SUMMARY:May 10 Executive Committee & Board Meetings
DESCRIPTION:Board of Directors Agenda \nExecutive Committee Agenda \n  \nJanuary Board Minutes \nJanuary Executive Minutes \nNUCA Board Materials \n2024 NUCA Memberships \nFebruary Meeting Documents \nNUCA of Florida Financials \nAdvocacy Financials \nASJMSF Financials \nMarch Meeting Documents \nNUCA of Florida Financials \nAdvocacy Financials \nASJMSF Financials \nApril Meeting Documents \nNUCA of Florida Financials \nASJMSF Financials \nAdvocacy Financials \n 
URL:https://nucaflorida.org/event/may-17-executive-committee-board-meetings/
CATEGORIES:Meeting
ORGANIZER;CN="Kate MM":MAILTO:kate@nucaflorida.org
END:VEVENT
END:VCALENDAR