BEGIN:VCALENDAR
VERSION:2.0
PRODID:-//NUCA of Florida - ECPv6.15.20//NONSGML v1.0//EN
CALSCALE:GREGORIAN
METHOD:PUBLISH
X-ORIGINAL-URL:https://nucaflorida.org
X-WR-CALDESC:Events for NUCA of Florida
REFRESH-INTERVAL;VALUE=DURATION:PT1H
X-Robots-Tag:noindex
X-PUBLISHED-TTL:PT1H
BEGIN:VTIMEZONE
TZID:America/New_York
BEGIN:DAYLIGHT
TZOFFSETFROM:-0500
TZOFFSETTO:-0400
TZNAME:EDT
DTSTART:20230312T070000
END:DAYLIGHT
BEGIN:STANDARD
TZOFFSETFROM:-0400
TZOFFSETTO:-0500
TZNAME:EST
DTSTART:20231105T060000
END:STANDARD
BEGIN:DAYLIGHT
TZOFFSETFROM:-0500
TZOFFSETTO:-0400
TZNAME:EDT
DTSTART:20240310T070000
END:DAYLIGHT
BEGIN:STANDARD
TZOFFSETFROM:-0400
TZOFFSETTO:-0500
TZNAME:EST
DTSTART:20241103T060000
END:STANDARD
BEGIN:DAYLIGHT
TZOFFSETFROM:-0500
TZOFFSETTO:-0400
TZNAME:EDT
DTSTART:20250309T070000
END:DAYLIGHT
BEGIN:STANDARD
TZOFFSETFROM:-0400
TZOFFSETTO:-0500
TZNAME:EST
DTSTART:20251102T060000
END:STANDARD
END:VTIMEZONE
BEGIN:VEVENT
DTSTART;TZID=America/New_York:20240130T080000
DTEND;TZID=America/New_York:20240131T170000
DTSTAMP:20260424T165232
CREATED:20231209T020638Z
LAST-MODIFIED:20240129T012906Z
UID:5997-1706601600-1706720400@nucaflorida.org
SUMMARY:Legislative Days | Jan 2024
DESCRIPTION:Save the Date!  \nThe 2024 Legislative Session kicks off early this year on January 9th. NUCA of Florida will be hosting its Legislative Days on Jan. 30-31\, 2024\, at A/C Marriott Hotel. On January 30th\, attendees will gather for a Breakfast Legislative Briefing from 8 a.m.-10 a.m. Members will then “walk the halls” and meet one-on-one with legislators at the Capitol. Industry-specific bills covering Sunshine 811\, heat illness & injury\, construction practices\, “Buy American\,” and licensure are all on the table. In the evening\, we’ll gather with lawmakers for a cocktail reception. On Jan. 31st\, the Executive Committee begins at 8:30 a.m. and the Board of Directors convene at 10:30 a.m. \nTO REGISTER AND/OR SPONSOR\, CLICK HERE \nTO BOOK YOUR HOTEL STAY\, CLICK HERE \nLegislative Days Brochure \nAgendas and Meeting Minutes \nBoard of Directors Agenda \nExecutive Committee Meeting Agenda \nExecutive Meeting Minutes- October \nBoard Meeting Minutes- October \nDecember Financials \nNUCA of Florida \nASJMSF \nAdvocacy \nLegal Defense \nJoin us in Tallahassee to advocate for the underground utility industry!
URL:https://nucaflorida.org/event/legislative-days-jan-2024/
LOCATION:A/C Marriott\, 801 South Gadsden Street\, Tallahassee\, FL\, 32301
CATEGORIES:Meeting
ORGANIZER;CN="Kate MM":MAILTO:kate@nucaflorida.org
END:VEVENT
END:VCALENDAR