BEGIN:VCALENDAR
VERSION:2.0
PRODID:-//NUCA of Florida - ECPv6.15.20//NONSGML v1.0//EN
CALSCALE:GREGORIAN
METHOD:PUBLISH
X-ORIGINAL-URL:https://nucaflorida.org
X-WR-CALDESC:Events for NUCA of Florida
REFRESH-INTERVAL;VALUE=DURATION:PT1H
X-Robots-Tag:noindex
X-PUBLISHED-TTL:PT1H
BEGIN:VTIMEZONE
TZID:America/New_York
BEGIN:DAYLIGHT
TZOFFSETFROM:-0500
TZOFFSETTO:-0400
TZNAME:EDT
DTSTART:20220313T070000
END:DAYLIGHT
BEGIN:STANDARD
TZOFFSETFROM:-0400
TZOFFSETTO:-0500
TZNAME:EST
DTSTART:20221106T060000
END:STANDARD
BEGIN:DAYLIGHT
TZOFFSETFROM:-0500
TZOFFSETTO:-0400
TZNAME:EDT
DTSTART:20230312T070000
END:DAYLIGHT
BEGIN:STANDARD
TZOFFSETFROM:-0400
TZOFFSETTO:-0500
TZNAME:EST
DTSTART:20231105T060000
END:STANDARD
BEGIN:DAYLIGHT
TZOFFSETFROM:-0500
TZOFFSETTO:-0400
TZNAME:EDT
DTSTART:20240310T070000
END:DAYLIGHT
BEGIN:STANDARD
TZOFFSETFROM:-0400
TZOFFSETTO:-0500
TZNAME:EST
DTSTART:20241103T060000
END:STANDARD
END:VTIMEZONE
BEGIN:VEVENT
DTSTART;TZID=America/New_York:20231012T100000
DTEND;TZID=America/New_York:20231012T173000
DTSTAMP:20260424T214429
CREATED:20230816T023915Z
LAST-MODIFIED:20231011T030009Z
UID:5908-1697104800-1697131800@nucaflorida.org
SUMMARY:Fall Board & Committee Meetings
DESCRIPTION:Itinerary: \n10:15 am-12:30 pm – Executive Committee Meeting (Agenda here)\n12:45 pm-1:30 pm – Chapter Directors Meeting (Agenda here)\n1:30 pm-2:30 pm – Advocacy Meeting\n2:30 pm-3:00 pm – Conference Committee Meeting\n3:15 pm-5:30 pm – Board of Directors Meeting (Agenda here)\n6 pm – Reception\n7 pm – Hospitality Zone \n  \nJuly Board Meeting Minutes \nJuly Executive Committee Meeting Minutes \nSeptember Financials \nNUCA of Florida \nASJMSF \nLegal Defense \nAdvocacy \nAugust Financials  \nNUCA of Florida \nASJMSF \nLegal Defense \nAdvocacy \nJuly Financials \nNUCA of Florida \nASJMSF \nLegal Defense \nAdvocacy
URL:https://nucaflorida.org/event/fall-board-committee-meetings/
LOCATION:Innisbrook Golf Resort & Spa\, 36750 US Highway 19 N\, Palm Harbor\, FL\, 34684\, United States
CATEGORIES:Meeting,NUCA of Florida
ORGANIZER;CN="Kate MM":MAILTO:kate@nucaflorida.org
END:VEVENT
BEGIN:VEVENT
DTSTART;TZID=America/New_York:20231012T100000
DTEND;TZID=America/New_York:20231013T140000
DTSTAMP:20260424T214429
CREATED:20230811T154028Z
LAST-MODIFIED:20230816T023150Z
UID:5893-1697104800-1697205600@nucaflorida.org
SUMMARY:NUCA of Florida 2023 President’s Cup
DESCRIPTION:Join us October 12-13 at Innisbrook Golf Resort & Spa! Network\, mingle with NUCA FL Board & leadership at a reception\, enjoy our Hospitality Zone & join your peers on the greens for the President’s Cup golf event or relax at the luxurious spa. \n \nAll proceeds from this event go to NUCA of Florida advocacy efforts.  Help keep NUCA at the table in Tallahassee and support this event! All funds raised from the event go to support our Advocacy efforts and campaigns are expensive. We use our Advocacy funds to support business-minded candidates who work to protect our industry. Can’t make the event? Consider a sponsorship by contacting Kari Hebrank at 850-566-7824. \nThis year we are adding a Hospitality Zone after the Thursday night reception. We’ll have a pool table\, areas to play cards or just relax\, college football on the big screen and a special dart board. Of course\, cold beverages and “Pub” food will also be offered. Great opportunity for NUCA FL members and guests to network and build business relationships. \n  \nRegister here \nBook your Stay: Use the link below to book your hotel room\, or contact the resort directly and ask for the NUCA FL discounted rate of $199. \nHotel Reservation Link \n  \nThursday\, October 12 \nExecutive Committee Meeting—10:00 a.m.-12:30 p.m. (Executive Committee Members Only; Working lunch) \nChapter Directors Meeting—1:00 p.m.-1:45 p.m. \nAdvocacy Meeting—1:45 p.m.—2:30 p.m. \nConference Committee Meeting—2:30 p.m.-3 p.m. \nBoard of Directors Meeting—3:15 p.m.—5:30 p.m. \nReception—6:00 p.m. \nFriday\, October 13 \nPlayers Breakfast—7:00 a.m.-7:45 a.m. \nShotgun Start South Course—8:00 a.m. \nAwards Luncheon—1:00 p.m. \n 
URL:https://nucaflorida.org/event/nuca-of-florida-2023-presidents-cup/
LOCATION:Innisbrook Golf Resort & Spa\, 36750 US Highway 19 N\, Palm Harbor\, FL\, 34684\, United States
CATEGORIES:Meeting,NUCA of Florida
ORGANIZER;CN="Kate MM":MAILTO:kate@nucaflorida.org
END:VEVENT
END:VCALENDAR