BEGIN:VCALENDAR
VERSION:2.0
PRODID:-//NUCA of Florida - ECPv6.15.20//NONSGML v1.0//EN
CALSCALE:GREGORIAN
METHOD:PUBLISH
X-WR-CALNAME:NUCA of Florida
X-ORIGINAL-URL:https://nucaflorida.org
X-WR-CALDESC:Events for NUCA of Florida
REFRESH-INTERVAL;VALUE=DURATION:PT1H
X-Robots-Tag:noindex
X-PUBLISHED-TTL:PT1H
BEGIN:VTIMEZONE
TZID:America/New_York
BEGIN:DAYLIGHT
TZOFFSETFROM:-0500
TZOFFSETTO:-0400
TZNAME:EDT
DTSTART:20230312T070000
END:DAYLIGHT
BEGIN:STANDARD
TZOFFSETFROM:-0400
TZOFFSETTO:-0500
TZNAME:EST
DTSTART:20231105T060000
END:STANDARD
BEGIN:DAYLIGHT
TZOFFSETFROM:-0500
TZOFFSETTO:-0400
TZNAME:EDT
DTSTART:20240310T070000
END:DAYLIGHT
BEGIN:STANDARD
TZOFFSETFROM:-0400
TZOFFSETTO:-0500
TZNAME:EST
DTSTART:20241103T060000
END:STANDARD
BEGIN:DAYLIGHT
TZOFFSETFROM:-0500
TZOFFSETTO:-0400
TZNAME:EDT
DTSTART:20250309T070000
END:DAYLIGHT
BEGIN:STANDARD
TZOFFSETFROM:-0400
TZOFFSETTO:-0500
TZNAME:EST
DTSTART:20251102T060000
END:STANDARD
BEGIN:DAYLIGHT
TZOFFSETFROM:-0500
TZOFFSETTO:-0400
TZNAME:EDT
DTSTART:20260308T070000
END:DAYLIGHT
BEGIN:STANDARD
TZOFFSETFROM:-0400
TZOFFSETTO:-0500
TZNAME:EST
DTSTART:20261101T060000
END:STANDARD
BEGIN:DAYLIGHT
TZOFFSETFROM:-0500
TZOFFSETTO:-0400
TZNAME:EDT
DTSTART:20270314T070000
END:DAYLIGHT
BEGIN:STANDARD
TZOFFSETFROM:-0400
TZOFFSETTO:-0500
TZNAME:EST
DTSTART:20271107T060000
END:STANDARD
END:VTIMEZONE
BEGIN:VEVENT
DTSTART;TZID=America/New_York:20241113T130000
DTEND;TZID=America/New_York:20241113T143000
DTSTAMP:20260422T031324
CREATED:20241106T152229Z
LAST-MODIFIED:20241106T154922Z
UID:6500-1731502800-1731508200@nucaflorida.org
SUMMARY:Executive Board Meetings
DESCRIPTION:Executive Board Meeting \n1:00 PM EST – 2:30 PM EST \n  \nExecutive Committee Meeting \n3:00 PM EST – 5:00 PM EST \n  \n2024 NUCA BOD October Agenda \n2024 NUCA Executive Committee Agenda \nBoard Committee Minutes July2024 \nNUCA of FL Executive Meeting 2024 \nNUCA of Florida- October 2024 \nAdvocacy- October 2024 \nASJMSF- October 2024
URL:https://nucaflorida.org/event/executive-board-meeting/
END:VEVENT
BEGIN:VEVENT
DTSTART;TZID=America/New_York:20241217T130000
DTEND;TZID=America/New_York:20241217T150000
DTSTAMP:20260422T031324
CREATED:20241211T040112Z
LAST-MODIFIED:20241211T040112Z
UID:6513-1734440400-1734447600@nucaflorida.org
SUMMARY:Executive Board Meetings
DESCRIPTION:November Financial Documents \nNUCA FL Nov. 2024 \nAdvocacy Nov. 2024 \nASJMSF Nov. 2024 \n  \n  \n  \n 
URL:https://nucaflorida.org/event/executive-board-meetings/
END:VEVENT
BEGIN:VEVENT
DTSTART;TZID=America/New_York:20241219T130000
DTEND;TZID=America/New_York:20241219T150000
DTSTAMP:20260422T031324
CREATED:20241211T040625Z
LAST-MODIFIED:20241211T040625Z
UID:6515-1734613200-1734620400@nucaflorida.org
SUMMARY:Executive Committee Meeting
DESCRIPTION:
URL:https://nucaflorida.org/event/executive-committee-meeting/
END:VEVENT
BEGIN:VEVENT
DTSTART;TZID=America/New_York:20250401T080000
DTEND;TZID=America/New_York:20250402T170000
DTSTAMP:20260422T031324
CREATED:20241002T194903Z
LAST-MODIFIED:20250212T020004Z
UID:6342-1743494400-1743613200@nucaflorida.org
SUMMARY:Legislative Days 2025
DESCRIPTION:Join us in Tallahassee for our 2025 Legislative Days! \nGet into politics or get out of business! Join the conversation surrounding the 2025 Legislative Session\, meet with key legislators and policymakers and help advance NUCA of Florida’s Legislative Agenda. \nKey Agenda Highlights: \nApril 1 | Breakfast & Legislative Briefing\, 8-10 am\, followed by “walking the halls” at the Capitol to meet one-on-one with legislators to discuss industry-specific  bills covering fire suppression\, development\, construction practices\, crane regulations and licensure. The evening will include a cocktail reception. \nApril 2 | Executive Committee Meeting\, 8:30a and Board of Directors Meeting\, 10:30a \nRegister now  \nBook your hotel room now at  AC Hotel Tallahassee Universities at the Capitol \n\nThe group block rate closes March 10th.\n\n  \n 
URL:https://nucaflorida.org/event/legislative-days-2025/
LOCATION:AC Hotel Tallahassee Universities at the Capitol\, 801 S Gadsden St\, Tallahassee\, FL\, 32301\, United States
CATEGORIES:Legislative Days,Meeting,NUCA of Florida
ORGANIZER;CN="Kari Hebrank":MAILTO:kate@nucaflorida.org
END:VEVENT
BEGIN:VEVENT
DTSTART;TZID=America/New_York:20250501T163000
DTEND;TZID=America/New_York:20250503T160000
DTSTAMP:20260422T031324
CREATED:20250212T010722Z
LAST-MODIFIED:20250212T010803Z
UID:6528-1746117000-1746288000@nucaflorida.org
SUMMARY:NUCA FL/ASJMSF 25th Annual Bass Fishing Tournament
DESCRIPTION:Get ready for the 2025 Andrew Scott Johnson Memorial Bass Tournament May 1-3! The tournament will be held in Okeechobee City on Lake Okeechobee with the. weigh-in at Scott C. Driver Park.  Hotel reservations may be secured at our NUCA FL discounted rate at Days Inn/Wyndham by Lake Okeechobee by calling 863-623-4704. Note: Sponsorships are 100% tax-deductible. \n  \nRegister HERE.
URL:https://nucaflorida.org/event/nuca-fl-asjmsf-25th-annual-bass-fishing-tournament/
LOCATION:C. Scott Driver Park\, 10100 W Hwy 78\, Okeechobee\, FL\, 34974\, United States
ORGANIZER;CN="Kari Hebrank":MAILTO:kate@nucaflorida.org
END:VEVENT
BEGIN:VEVENT
DTSTART;VALUE=DATE:20250717
DTEND;VALUE=DATE:20250720
DTSTAMP:20260422T031324
CREATED:20250424T151901Z
LAST-MODIFIED:20250507T235707Z
UID:6777-1752710400-1752969599@nucaflorida.org
SUMMARY:NUCA of Florida Annual Conference 2025
DESCRIPTION:Get ready to set sail on an unforgettable journey at the NUCA of Florida Annual Conference!  Our “Below Deck” adventures at the stunning Tropical Ocean Reef Resort in Key Largo from July 17-19 are just around the corner\, and you won’t want to miss out! Act fast\, though—registering is your golden ticket to snag one of our exclusive discounted rooms!  This is your chance to dive deep into networking with fellow utility contractors\, share insights\, and build connections that will propel your business forward. Don’t let this opportunity drift away—secure your spot today and get ready for an amazing time in paradise! \nEvent Registration: https://lp.constantcontactpages.com/ev/reg/ks335uu \nHotel Reservations: https://book.passkey.com/go/NUCAFLORC
URL:https://nucaflorida.org/event/nuca-of-florida-annual-conference-2025/
LOCATION:Ocean Reef\, 201 Ocean Reef Drive\, Key Largo\, FL\, 33037\, United States
CATEGORIES:NUCA of Florida
ATTACH;FMTTYPE=image/jpeg:https://nucaflorida.org/wp-content/uploads/2025/04/registration-scaled.jpg
ORGANIZER;CN="NUCA of Florida":MAILTO:khebrank@carltonfields.com
END:VEVENT
BEGIN:VEVENT
DTSTART;TZID=America/New_York:20250717T103000
DTEND;TZID=America/New_York:20250717T121500
DTSTAMP:20260422T031324
CREATED:20250717T013715Z
LAST-MODIFIED:20250717T013829Z
UID:6862-1752748200-1752754500@nucaflorida.org
SUMMARY:July 17 Executive Committee Meeting
DESCRIPTION:NUCA of FLORIDA\, INC. \nEXECUTIVE COMMITTEE MEETING \nThursday\, July 17\, 2025 \n10:30 AM –12:15 PM \nExecutive Committee Agenda \nBoard of Directors’ Meeting Minutes – April 2 \nExecutive Committee Meeting Minutes – April 2 \n  \nFinancial Statements \nAdvocacy – June 2025 \nNUCA of Florida – June 2025 \nASJMSF – June 2025
URL:https://nucaflorida.org/event/july-17-executive-committee-meeting/
LOCATION:Ocean Reef Club\, Permit Room Key Largo\, Florida
CATEGORIES:Meeting
ORGANIZER;CN="NUCA of Florida":MAILTO:khebrank@carltonfields.com
END:VEVENT
BEGIN:VEVENT
DTSTART;VALUE=DATE:20250918
DTEND;VALUE=DATE:20250920
DTSTAMP:20260422T031324
CREATED:20250819T144053Z
LAST-MODIFIED:20250819T144401Z
UID:6897-1758153600-1758326399@nucaflorida.org
SUMMARY:NUCA of Florida 2025 President's Cup Golf Tournament
DESCRIPTION:Join the NUCA Florida board members and leadership at the 2025 President’s Cup in beautiful Longboat Key. Network with industry colleagues\, advocacy partners and peers at the Thursday committee meetings & reception followed by a fun tournament on Friday at the beautiful Harborside Course. \nRegistration and Sponsorship Information \nRoom Block Information
URL:https://nucaflorida.org/event/nuca-of-florida-2025-presidents-cup-golf-tournament/
LOCATION:The Resort at Longboat Key Club\, 220 Sands Point Rd\, Longboat Key\, FL\, 34228\, United States
CATEGORIES:NUCA of Florida
ATTACH;FMTTYPE=image/png:https://nucaflorida.org/wp-content/uploads/2025/08/PRESIDENTS-CUP-2025_Page_1-scaled.png
ORGANIZER;CN="NUCA of Florida":MAILTO:khebrank@carltonfields.com
END:VEVENT
BEGIN:VEVENT
DTSTART;TZID=America/New_York:20260127T080000
DTEND;TZID=America/New_York:20260128T170000
DTSTAMP:20260422T031324
CREATED:20251008T185047Z
LAST-MODIFIED:20251118T160720Z
UID:6966-1769500800-1769619600@nucaflorida.org
SUMMARY:NUCA of Florida Legislative Days
DESCRIPTION:NUCA of Florida Legislative Days –January 27-28\, 2026 \nGet into politics or get out of business! Join the conversation surrounding the 2026 Legislative Session\, meet with key legislators and policymakers and help advance NUCA of Florida’s Legislative Agenda while advocating for the underground utility industry. Note: There will be a shuttle that runs to the Capitol hourly to help transport attendees. \nAttendees will convene for a Legislative Breakfast Briefing on Tuesday\, January 27th from 8 a.m.-10 a.m. before “walking the halls” of the Capitol to meet with lawmakers\, armed with NUCA of Florida’s legislative agenda and “talking points.”  In the evening\, we will network during a cocktail reception (site to be determined).  On Wednesday morning\, the Executive Committee will conduct association business beginning at 8:30 a.m. and the Board of Directors convenes at 10:30 a.m. before everyone heads back home. \nRegistration & Sponsorship Link: https://lp.constantcontactpages.com/ev/reg/gw4cfnm \nHotel Reservations: Guests may call Marriott Reservations directly to obtain the NUCA of Florida discounted rate at 1 (800) 922-3291 or use the link provided below to make reservations on or before the cutoff date of Monday\, January 5\, 2026. \nhttps://www.marriott.com/event-reservations/reservation-link.mi?id=1758137831982&key=GRP&app=resvlink \nLocation \nResidence Inn –Tallahassee Universities at the Capitol \n600 West Gaines Street\, Tallahassee\, 32304 \nDate & time \nJan 27\, 2026 at 8:00am–Jan 28\, 2026 at 1:00pm EDT ET
URL:https://nucaflorida.org/event/nuca-of-florida-legislative-days-2/
LOCATION:Residence Inn – Tallahassee Universities at the Capitol\, 600 W Gaines St.\, Tallahassee\, FL\, 32304\, United States
CATEGORIES:Legislative Days,NUCA of Florida
ATTACH;FMTTYPE=application/pdf:https://nucaflorida.org/wp-content/uploads/2025/10/2026-NUCA-Legislative-Days-FlyerFinal2-4.pdf
ORGANIZER;CN="Kari Hebrank":MAILTO:kate@nucaflorida.org
END:VEVENT
BEGIN:VEVENT
DTSTART;VALUE=DATE:20260716
DTEND;VALUE=DATE:20260719
DTSTAMP:20260422T031324
CREATED:20260205T163143Z
LAST-MODIFIED:20260205T193700Z
UID:8404-1784160000-1784419199@nucaflorida.org
SUMMARY:NUCA of Florida Conference 2026
DESCRIPTION:Join us for a dynamic construction industry conference with beautiful beach views. The event includes a Construction Forum on current trends\, a panel discussing workforce\, the impact of AI and Leadership Training. Attendees will network with exhibitors and colleagues and enjoy a festive “Christmas in July” party. This is a great chance to learn\, connect\, and celebrate in a vibrant setting. \nLocation: Hyatt Regency Clearwater Beach\, 301 S. Gulfview Blvd.\, Clearwater\, FL 33767 \nDate and time: Thu\, Jul 16\, 2026 9:30 AM – Sat\, Jul 18\, 2026 10:00 PM \nOrganizer: Theresa Mannix\, (727) 600-7158\, theresa@nucaflorida.org \nRegister Here \nBook Room Here \nSponsor & Exhibit Here
URL:https://nucaflorida.org/event/nuca-of-florida-conference-2026/
CATEGORIES:NUCA of Florida
ATTACH;FMTTYPE=image/jpeg:https://nucaflorida.org/wp-content/uploads/2026/02/Save-the-Date-Conference-2026.jpg
ORGANIZER;CN="Theresa Mannix":MAILTO:theresa@nucaflorida.org
END:VEVENT
BEGIN:VEVENT
DTSTART;VALUE=DATE:20260924
DTEND;VALUE=DATE:20260926
DTSTAMP:20260422T031324
CREATED:20260205T183949Z
LAST-MODIFIED:20260324T215411Z
UID:8454-1790208000-1790380799@nucaflorida.org
SUMMARY:President's Cup 2026
DESCRIPTION:
URL:https://nucaflorida.org/event/presidents-cup-2026/
CATEGORIES:NUCA of Florida
END:VEVENT
BEGIN:VEVENT
DTSTART;VALUE=DATE:20261112
DTEND;VALUE=DATE:20261115
DTSTAMP:20260422T031324
CREATED:20260205T184039Z
LAST-MODIFIED:20260324T215335Z
UID:8456-1794441600-1794700799@nucaflorida.org
SUMMARY:ASJMSF Tournament
DESCRIPTION:
URL:https://nucaflorida.org/event/asjmsf-tournament/
CATEGORIES:NUCA of Florida
ATTACH;FMTTYPE=image/jpeg:https://nucaflorida.org/wp-content/uploads/2026/03/ASJMSF-Tournament-Save-the-Date-Flyer-1.jpg
END:VEVENT
BEGIN:VEVENT
DTSTART;VALUE=DATE:20261112
DTEND;VALUE=DATE:20261115
DTSTAMP:20260422T031324
CREATED:20260324T214213Z
LAST-MODIFIED:20260324T214213Z
UID:8503-1794441600-1794700799@nucaflorida.org
SUMMARY:ASJMSF Bass Tournament
DESCRIPTION:
URL:https://nucaflorida.org/event/asjmsf-bass-tournament-2/
END:VEVENT
END:VCALENDAR