BEGIN:VCALENDAR
VERSION:2.0
PRODID:-//NUCA of Florida - ECPv6.15.20//NONSGML v1.0//EN
CALSCALE:GREGORIAN
METHOD:PUBLISH
X-ORIGINAL-URL:https://nucaflorida.org
X-WR-CALDESC:Events for NUCA of Florida
REFRESH-INTERVAL;VALUE=DURATION:PT1H
X-Robots-Tag:noindex
X-PUBLISHED-TTL:PT1H
BEGIN:VTIMEZONE
TZID:America/New_York
BEGIN:DAYLIGHT
TZOFFSETFROM:-0500
TZOFFSETTO:-0400
TZNAME:EDT
DTSTART:20230312T070000
END:DAYLIGHT
BEGIN:STANDARD
TZOFFSETFROM:-0400
TZOFFSETTO:-0500
TZNAME:EST
DTSTART:20231105T060000
END:STANDARD
BEGIN:DAYLIGHT
TZOFFSETFROM:-0500
TZOFFSETTO:-0400
TZNAME:EDT
DTSTART:20240310T070000
END:DAYLIGHT
BEGIN:STANDARD
TZOFFSETFROM:-0400
TZOFFSETTO:-0500
TZNAME:EST
DTSTART:20241103T060000
END:STANDARD
BEGIN:DAYLIGHT
TZOFFSETFROM:-0500
TZOFFSETTO:-0400
TZNAME:EDT
DTSTART:20250309T070000
END:DAYLIGHT
BEGIN:STANDARD
TZOFFSETFROM:-0400
TZOFFSETTO:-0500
TZNAME:EST
DTSTART:20251102T060000
END:STANDARD
END:VTIMEZONE
BEGIN:VEVENT
DTSTART;VALUE=DATE:20240711
DTEND;VALUE=DATE:20240714
DTSTAMP:20260424T112432
CREATED:20240423T193628Z
LAST-MODIFIED:20240708T141425Z
UID:6122-1720656000-1720915199@nucaflorida.org
SUMMARY:NUCA of Florida Annual Conference
DESCRIPTION:  \nEscape to Margaritaville!\n \n  \n  \n  \n  \n  \n  \n  \n  \n  \n  \nPut on your flip flops and escape to Margaritaville with us for the 2024 NUCA FL Annual Conference.  This event offers an exceptional opportunity to network\, collaborate\, learn and discuss innovative ideas within the industry.  Conference attendees include key decision-makers: CEO’s\, General Managers\, Project Managers\, Supervisors\, Engineers as well as manufacturers\, distributors and material suppliers involved in the underground utility and excavation contractor industry.  Network in a relaxed setting in vibrant Bonita Springs\, enjoy a cool beverage and cheeseburger in paradise poolside\, or catch a wave at the dazzling beach. \n2024 Annual Conference\nJuly 11-13\, 2024 \nRegister HERE \nBook your hotel room HERE \nView the conference agenda HERE \n  \n 
URL:https://nucaflorida.org/event/nuca-of-florida-annual-conference/
LOCATION:Hyatt Regency Coconut Point\, Bonita Springs\, Florida
CATEGORIES:Meeting,NUCA of Florida
ORGANIZER;CN="Kate MM":MAILTO:kate@nucaflorida.org
END:VEVENT
END:VCALENDAR